BEGIN:VCALENDAR
VERSION:2.0
PRODID:-//FEPA News - ECPv6.15.12.2//NONSGML v1.0//EN
CALSCALE:GREGORIAN
METHOD:PUBLISH
X-ORIGINAL-URL:https://fepanews.com
X-WR-CALDESC:Events for FEPA News
REFRESH-INTERVAL;VALUE=DURATION:PT1H
X-Robots-Tag:noindex
X-PUBLISHED-TTL:PT1H
BEGIN:VTIMEZONE
TZID:Europe/Helsinki
BEGIN:DAYLIGHT
TZOFFSETFROM:+0200
TZOFFSETTO:+0300
TZNAME:EEST
DTSTART:20160327T010000
END:DAYLIGHT
BEGIN:STANDARD
TZOFFSETFROM:+0300
TZOFFSETTO:+0200
TZNAME:EET
DTSTART:20161030T010000
END:STANDARD
BEGIN:DAYLIGHT
TZOFFSETFROM:+0200
TZOFFSETTO:+0300
TZNAME:EEST
DTSTART:20170326T010000
END:DAYLIGHT
BEGIN:STANDARD
TZOFFSETFROM:+0300
TZOFFSETTO:+0200
TZNAME:EET
DTSTART:20171029T010000
END:STANDARD
BEGIN:DAYLIGHT
TZOFFSETFROM:+0200
TZOFFSETTO:+0300
TZNAME:EEST
DTSTART:20180325T010000
END:DAYLIGHT
BEGIN:STANDARD
TZOFFSETFROM:+0300
TZOFFSETTO:+0200
TZNAME:EET
DTSTART:20181028T010000
END:STANDARD
BEGIN:DAYLIGHT
TZOFFSETFROM:+0200
TZOFFSETTO:+0300
TZNAME:EEST
DTSTART:20190331T010000
END:DAYLIGHT
BEGIN:STANDARD
TZOFFSETFROM:+0300
TZOFFSETTO:+0200
TZNAME:EET
DTSTART:20191027T010000
END:STANDARD
BEGIN:DAYLIGHT
TZOFFSETFROM:+0200
TZOFFSETTO:+0300
TZNAME:EEST
DTSTART:20200329T010000
END:DAYLIGHT
BEGIN:STANDARD
TZOFFSETFROM:+0300
TZOFFSETTO:+0200
TZNAME:EET
DTSTART:20201025T010000
END:STANDARD
BEGIN:DAYLIGHT
TZOFFSETFROM:+0200
TZOFFSETTO:+0300
TZNAME:EEST
DTSTART:20210328T010000
END:DAYLIGHT
BEGIN:STANDARD
TZOFFSETFROM:+0300
TZOFFSETTO:+0200
TZNAME:EET
DTSTART:20211031T010000
END:STANDARD
BEGIN:DAYLIGHT
TZOFFSETFROM:+0200
TZOFFSETTO:+0300
TZNAME:EEST
DTSTART:20220327T010000
END:DAYLIGHT
BEGIN:STANDARD
TZOFFSETFROM:+0300
TZOFFSETTO:+0200
TZNAME:EET
DTSTART:20221030T010000
END:STANDARD
BEGIN:DAYLIGHT
TZOFFSETFROM:+0200
TZOFFSETTO:+0300
TZNAME:EEST
DTSTART:20230326T010000
END:DAYLIGHT
BEGIN:STANDARD
TZOFFSETFROM:+0300
TZOFFSETTO:+0200
TZNAME:EET
DTSTART:20231029T010000
END:STANDARD
BEGIN:DAYLIGHT
TZOFFSETFROM:+0200
TZOFFSETTO:+0300
TZNAME:EEST
DTSTART:20240331T010000
END:DAYLIGHT
BEGIN:STANDARD
TZOFFSETFROM:+0300
TZOFFSETTO:+0200
TZNAME:EET
DTSTART:20241027T010000
END:STANDARD
BEGIN:DAYLIGHT
TZOFFSETFROM:+0200
TZOFFSETTO:+0300
TZNAME:EEST
DTSTART:20250330T010000
END:DAYLIGHT
BEGIN:STANDARD
TZOFFSETFROM:+0300
TZOFFSETTO:+0200
TZNAME:EET
DTSTART:20251026T010000
END:STANDARD
BEGIN:DAYLIGHT
TZOFFSETFROM:+0200
TZOFFSETTO:+0300
TZNAME:EEST
DTSTART:20260329T010000
END:DAYLIGHT
BEGIN:STANDARD
TZOFFSETFROM:+0300
TZOFFSETTO:+0200
TZNAME:EET
DTSTART:20261025T010000
END:STANDARD
BEGIN:DAYLIGHT
TZOFFSETFROM:+0200
TZOFFSETTO:+0300
TZNAME:EEST
DTSTART:20270328T010000
END:DAYLIGHT
BEGIN:STANDARD
TZOFFSETFROM:+0300
TZOFFSETTO:+0200
TZNAME:EET
DTSTART:20271031T010000
END:STANDARD
END:VTIMEZONE
BEGIN:VEVENT
DTSTART;VALUE=DATE:20260204
DTEND;VALUE=DATE:20260209
DTSTAMP:20260425T051517
CREATED:20241128T083337Z
LAST-MODIFIED:20250313T073628Z
UID:20072-1770163200-1770595199@fepanews.com
SUMMARY:DUBAI 2026
DESCRIPTION:Specialised World Stamp Exhibition\, FIP Patronage. \nhttps://dubai2026wse.com
URL:https://fepanews.com/event/dubai-2026/
LOCATION:Dubai
CATEGORIES:FIP Patronage
END:VEVENT
BEGIN:VEVENT
DTSTART;VALUE=DATE:20250917
DTEND;VALUE=DATE:20250922
DTSTAMP:20260425T051517
CREATED:20240227T095010Z
LAST-MODIFIED:20250313T073412Z
UID:18459-1758067200-1758499199@fepanews.com
SUMMARY:PHILAKOREA 2025
DESCRIPTION:Specialised World Stamp Exhibition\, WSC\, FIP patronage. \nhttps://philakorea2025.kr/
URL:https://fepanews.com/event/philakorea-2025/
LOCATION:Seoul\, Korea\, Republic of
CATEGORIES:FIP Patronage
END:VEVENT
BEGIN:VEVENT
DTSTART;VALUE=DATE:20250217
DTEND;VALUE=DATE:20250223
DTSTAMP:20260425T051517
CREATED:20240421T154410Z
LAST-MODIFIED:20241123T180524Z
UID:18758-1739750400-1740268799@fepanews.com
SUMMARY:URUGUAY 2025
DESCRIPTION:Specialised World Stamp Exhibition\, FIP patronage.\nhttps://uruguay2025.com/
URL:https://fepanews.com/event/uruguay-2025/
LOCATION:Punta del Este\, Uruguay
CATEGORIES:FIP Patronage
END:VEVENT
BEGIN:VEVENT
DTSTART;VALUE=DATE:20240416
DTEND;VALUE=DATE:20240420
DTSTAMP:20260425T051517
CREATED:20221025T125741Z
LAST-MODIFIED:20231213T091358Z
UID:14762-1713225600-1713571199@fepanews.com
SUMMARY:EFIRO 2024
DESCRIPTION:Specialised World Exhibition\, FEPA Recognition\, FIP Patronage.\nhttp://www.efiro.ro
URL:https://fepanews.com/event/efiro-2024/
LOCATION:Bucharest\, Romania
CATEGORIES:FEPA Recognition,FIP Patronage
END:VEVENT
BEGIN:VEVENT
DTSTART;VALUE=DATE:20231127
DTEND;VALUE=DATE:20231203
DTSTAMP:20260425T051517
CREATED:20221129T092633Z
LAST-MODIFIED:20230613T170046Z
UID:15685-1701043200-1701561599@fepanews.com
SUMMARY:THAILAND 2023
DESCRIPTION:Specialised World Stamp Exhibition\, WSC\, FIP Patronage.\nhttps://www.thailand2023wsc.com/
URL:https://fepanews.com/event/thailand-2023/
LOCATION:Bangkok\, Thailand
CATEGORIES:FIP Patronage
END:VEVENT
BEGIN:VEVENT
DTSTART;VALUE=DATE:20230525
DTEND;VALUE=DATE:20230529
DTSTAMP:20260425T051517
CREATED:20200909T072126Z
LAST-MODIFIED:20221115T144017Z
UID:10851-1684972800-1685318399@fepanews.com
SUMMARY:IBRA 2023
DESCRIPTION:General World Stamp Exhibition\, FIP Patronage\, FEPA Recognition\, AIJP Patronage.\nhttps://ibra2023.de
URL:https://fepanews.com/event/ibra-2023/
LOCATION:MESSE ESSEN GmbH\, Messeplatz\, Essen\, Germany
CATEGORIES:AIJP Patronage,FEPA Recognition,FIP Patronage
END:VEVENT
BEGIN:VEVENT
DTSTART;VALUE=DATE:20221108
DTEND;VALUE=DATE:20221113
DTSTAMP:20260425T051517
CREATED:20210420T171914Z
LAST-MODIFIED:20221115T073625Z
UID:11590-1667865600-1668297599@fepanews.com
SUMMARY:CAPE TOWN 2022
DESCRIPTION:Specialised World Stamp Exhibition\, WSC\, FIP Patronage.\nhttps://capetown2022.org
URL:https://fepanews.com/event/cape-town-2022/
LOCATION:Cape Town\, South Africa\, Cape Town
CATEGORIES:FIP Patronage
END:VEVENT
BEGIN:VEVENT
DTSTART;VALUE=DATE:20220804
DTEND;VALUE=DATE:20220810
DTSTAMP:20260425T051517
CREATED:20200909T142628Z
LAST-MODIFIED:20220408T105630Z
UID:10853-1659571200-1660089599@fepanews.com
SUMMARY:INDONESIA 2022
DESCRIPTION:World Stamp Championship. FIP Patronage\, FIAP Auspices.\nhttps://indonesia2022.id/
URL:https://fepanews.com/event/indonesia-2022/
LOCATION:Jakarta International EXPO Kemayoran\, Jakarta\, Indonesia
CATEGORIES:FIP Patronage
END:VEVENT
BEGIN:VEVENT
DTSTART;VALUE=DATE:20220518
DTEND;VALUE=DATE:20220523
DTSTAMP:20260425T051517
CREATED:20200414T085315Z
LAST-MODIFIED:20220408T095814Z
UID:10231-1652832000-1653263999@fepanews.com
SUMMARY:HELVETIA 2022
DESCRIPTION:World Stamp Championship. FIP Patronage\, FEPA Recognition\, AEP & AIJP Patronage\nhttps://www.helvetia2022.ch
URL:https://fepanews.com/event/helvetia-2022/
LOCATION:Centro Esposizioni Lugano\, Lugano\, Switzerland
CATEGORIES:AEP Patronage,AIJP Patronage,FEPA Recognition,FIP Patronage
END:VEVENT
BEGIN:VEVENT
DTSTART;VALUE=DATE:20220331
DTEND;VALUE=DATE:20220404
DTSTAMP:20260425T051517
CREATED:20200414T084919Z
LAST-MODIFIED:20220305T140748Z
UID:10226-1648684800-1649030399@fepanews.com
SUMMARY:HUNFILEX 2022
DESCRIPTION:Specialised World Stamp Championship Exhibition. Budapest\, Hungary. FIP Patronage. FEPA Recognition.
URL:https://fepanews.com/event/hunfilex-2022/
LOCATION:Budapest\, Fővám tér 11-12\, Budapest\, 1093\, Hungary
CATEGORIES:FEPA Recognition,FIP Patronage
END:VEVENT
BEGIN:VEVENT
DTSTART;VALUE=DATE:20220219
DTEND;VALUE=DATE:20220227
DTSTAMP:20260425T051517
CREATED:20200329T132955Z
LAST-MODIFIED:20210616T143248Z
UID:10157-1645228800-1645919999@fepanews.com
SUMMARY:LONDON 2022
DESCRIPTION:World Exhibition\, FIP Patronage\, FEPA Recognition. London\, United Kingdom.
URL:https://fepanews.com/event/london-2022/
LOCATION:Business Design Centre\, Islington\, 52 Upper Street\, London\, N1 0QH\, United Kingdom
CATEGORIES:FEPA Recognition,FIP Patronage
END:VEVENT
BEGIN:VEVENT
DTSTART;VALUE=DATE:20210825
DTEND;VALUE=DATE:20210831
DTSTAMP:20260425T051517
CREATED:20181202T093925Z
LAST-MODIFIED:20210616T142520Z
UID:7149-1629849600-1630367999@fepanews.com
SUMMARY:Philanippon 2021
DESCRIPTION:World Stamp Championship Exhibition\, FIP Patronage\, FIAP Auspices. Tokyo\, Yokohama\, Japan.
URL:https://fepanews.com/event/philanippon-2021/
LOCATION:PACIFICO Yokohama Exhibition Hall\, 1-1-1 Minato Mirai\, Yokohama\, Nishi-ku\, 220-0012\, Japan
CATEGORIES:FIP Patronage
END:VEVENT
BEGIN:VEVENT
DTSTART;VALUE=DATE:20201105
DTEND;VALUE=DATE:20201111
DTSTAMP:20260425T051517
CREATED:20181202T093749Z
LAST-MODIFIED:20200901T195144Z
UID:7147-1604534400-1605052799@fepanews.com
SUMMARY:Indonesia 2020 POSTPONED
DESCRIPTION:The exhibition is postponed to 2022. \nSpecialized world exhibition. FIP Patronage. Jakarta\, Indonesia.
URL:https://fepanews.com/event/indonesia-2020/
CATEGORIES:FIP Patronage
END:VEVENT
BEGIN:VEVENT
DTSTART;VALUE=DATE:20190611
DTEND;VALUE=DATE:20190618
DTSTAMP:20260425T051517
CREATED:20181202T094449Z
LAST-MODIFIED:20200117T093201Z
UID:7155-1560211200-1560815999@fepanews.com
SUMMARY:China 2019
DESCRIPTION:General world exhibition\, FIP Patronage. Wuhan\, China. FIP Jury Academy training course. \nResults: \n  	  		 		  							 					                                                                                                                                   Open
URL:https://fepanews.com/event/china-2019/
CATEGORIES:FIP Patronage
END:VEVENT
BEGIN:VEVENT
DTSTART;VALUE=DATE:20181128
DTEND;VALUE=DATE:20181204
DTSTAMP:20260425T051517
CREATED:20180131T202350Z
LAST-MODIFIED:20190108T200815Z
UID:5131-1543363200-1543881599@fepanews.com
SUMMARY:THAILAND 2018
DESCRIPTION:General World Exhibition\, FIP Patronage. Bangkok\, Thailand \nFIP congress \nThe list of exhibits can be read here. \nThe results can be read here.
URL:https://fepanews.com/event/thailand-2018/
CATEGORIES:FIP Patronage
END:VEVENT
BEGIN:VEVENT
DTSTART;VALUE=DATE:20180815
DTEND;VALUE=DATE:20180819
DTSTAMP:20260425T051517
CREATED:20170523T202147Z
LAST-MODIFIED:20180908T182209Z
UID:230-1534291200-1534636799@fepanews.com
SUMMARY:PRAGA 2018
DESCRIPTION:World Specialized Exhibition\, FIP Patronage\, FEPA Recognition. Prague\, Czech Republic. \n  \nResults can be found here.
URL:https://fepanews.com/event/praga-2018/
CATEGORIES:FIP Patronage
END:VEVENT
BEGIN:VEVENT
DTSTART;VALUE=DATE:20180527
DTEND;VALUE=DATE:20180601
DTSTAMP:20260425T051517
CREATED:20170523T202147Z
LAST-MODIFIED:20180629T110208Z
UID:225-1527379200-1527811199@fepanews.com
SUMMARY:Israel 2018
DESCRIPTION:Specialized World Stamp Championship Exhibition. FIP Patronage. Jerusalem\, Israel. \n  \nResults: \nBy class\n\nBy country
URL:https://fepanews.com/event/tel-aviv-2018/
CATEGORIES:FIP Patronage
END:VEVENT
BEGIN:VEVENT
DTSTART;VALUE=DATE:20170803
DTEND;VALUE=DATE:20170808
DTSTAMP:20260425T051517
CREATED:20170523T184325Z
LAST-MODIFIED:20170813T175008Z
UID:173-1501718400-1502150399@fepanews.com
SUMMARY:BANDUNG 2017
DESCRIPTION:
URL:https://fepanews.com/event/bandung-2017/
CATEGORIES:FIP Patronage
END:VEVENT
END:VCALENDAR