BEGIN:VCALENDAR
VERSION:2.0
PRODID:-//FEPA News - ECPv6.15.12.2//NONSGML v1.0//EN
CALSCALE:GREGORIAN
METHOD:PUBLISH
X-WR-CALNAME:FEPA News
X-ORIGINAL-URL:https://fepanews.com
X-WR-CALDESC:Events for FEPA News
REFRESH-INTERVAL;VALUE=DURATION:PT1H
X-Robots-Tag:noindex
X-PUBLISHED-TTL:PT1H
BEGIN:VTIMEZONE
TZID:Europe/Helsinki
BEGIN:DAYLIGHT
TZOFFSETFROM:+0200
TZOFFSETTO:+0300
TZNAME:EEST
DTSTART:20210328T010000
END:DAYLIGHT
BEGIN:STANDARD
TZOFFSETFROM:+0300
TZOFFSETTO:+0200
TZNAME:EET
DTSTART:20211031T010000
END:STANDARD
BEGIN:DAYLIGHT
TZOFFSETFROM:+0200
TZOFFSETTO:+0300
TZNAME:EEST
DTSTART:20220327T010000
END:DAYLIGHT
BEGIN:STANDARD
TZOFFSETFROM:+0300
TZOFFSETTO:+0200
TZNAME:EET
DTSTART:20221030T010000
END:STANDARD
BEGIN:DAYLIGHT
TZOFFSETFROM:+0200
TZOFFSETTO:+0300
TZNAME:EEST
DTSTART:20230326T010000
END:DAYLIGHT
BEGIN:STANDARD
TZOFFSETFROM:+0300
TZOFFSETTO:+0200
TZNAME:EET
DTSTART:20231029T010000
END:STANDARD
END:VTIMEZONE
BEGIN:VEVENT
DTSTART;VALUE=DATE:20220609
DTEND;VALUE=DATE:20220613
DTSTAMP:20260423T180810
CREATED:20200501T173643Z
LAST-MODIFIED:20220408T112820Z
UID:10336-1654732800-1655078399@fepanews.com
SUMMARY:CAPEX 2022
DESCRIPTION:International One Frame Stamp Championship Exhibition. FIAF Patronage\, FIP Recognition.\nhttps://capex2022.org
URL:https://fepanews.com/event/capex-2022/
LOCATION:Metro Toronto Convention Centre\, 255 Front Street West\, Toronto\, Ontario\, M5V 2W6\, Canada
CATEGORIES:FIP Recognition
END:VEVENT
END:VCALENDAR