BEGIN:VCALENDAR
VERSION:2.0
PRODID:-//FEPA News - ECPv6.15.12.2//NONSGML v1.0//EN
CALSCALE:GREGORIAN
METHOD:PUBLISH
X-ORIGINAL-URL:https://fepanews.com
X-WR-CALDESC:Events for FEPA News
REFRESH-INTERVAL;VALUE=DURATION:PT1H
X-Robots-Tag:noindex
X-PUBLISHED-TTL:PT1H
BEGIN:VTIMEZONE
TZID:Europe/Helsinki
BEGIN:DAYLIGHT
TZOFFSETFROM:+0200
TZOFFSETTO:+0300
TZNAME:EEST
DTSTART:20180325T010000
END:DAYLIGHT
BEGIN:STANDARD
TZOFFSETFROM:+0300
TZOFFSETTO:+0200
TZNAME:EET
DTSTART:20181028T010000
END:STANDARD
BEGIN:DAYLIGHT
TZOFFSETFROM:+0200
TZOFFSETTO:+0300
TZNAME:EEST
DTSTART:20190331T010000
END:DAYLIGHT
BEGIN:STANDARD
TZOFFSETFROM:+0300
TZOFFSETTO:+0200
TZNAME:EET
DTSTART:20191027T010000
END:STANDARD
BEGIN:DAYLIGHT
TZOFFSETFROM:+0200
TZOFFSETTO:+0300
TZNAME:EEST
DTSTART:20200329T010000
END:DAYLIGHT
BEGIN:STANDARD
TZOFFSETFROM:+0300
TZOFFSETTO:+0200
TZNAME:EET
DTSTART:20201025T010000
END:STANDARD
END:VTIMEZONE
BEGIN:VEVENT
DTSTART;VALUE=DATE:20190903
DTEND;VALUE=DATE:20190921
DTSTAMP:20260424T020839
CREATED:20190612T194951Z
LAST-MODIFIED:20190612T195025Z
UID:8346-1567468800-1569023999@fepanews.com
SUMMARY:Literature for Collectors
DESCRIPTION:Literature exhibition. Moldova. \nYou can read more about the exhibition here.
URL:https://fepanews.com/event/literature-for-collectors/
CATEGORIES:Multinational
END:VEVENT
BEGIN:VEVENT
DTSTART;VALUE=DATE:20190909
DTEND;VALUE=DATE:20190916
DTSTAMP:20260424T020839
CREATED:20190907T055304Z
LAST-MODIFIED:20190907T055304Z
UID:8932-1567987200-1568591999@fepanews.com
SUMMARY:Continental Stamp Exhibition 90th Anniversary of the Philatelic Society of Egypt
DESCRIPTION:Multinational. Cairo\, Egypt.
URL:https://fepanews.com/event/continental-stamp-exhibition-90th-anniversary-of-the-philatelic-society-of-egypt/
CATEGORIES:FEPA Recognition,Multinational
END:VEVENT
END:VCALENDAR