BEGIN:VCALENDAR
VERSION:2.0
PRODID:-//FEPA News - ECPv6.15.12.2//NONSGML v1.0//EN
CALSCALE:GREGORIAN
METHOD:PUBLISH
X-ORIGINAL-URL:https://fepanews.com
X-WR-CALDESC:Events for FEPA News
REFRESH-INTERVAL;VALUE=DURATION:PT1H
X-Robots-Tag:noindex
X-PUBLISHED-TTL:PT1H
BEGIN:VTIMEZONE
TZID:Europe/Helsinki
BEGIN:DAYLIGHT
TZOFFSETFROM:+0200
TZOFFSETTO:+0300
TZNAME:EEST
DTSTART:20180325T010000
END:DAYLIGHT
BEGIN:STANDARD
TZOFFSETFROM:+0300
TZOFFSETTO:+0200
TZNAME:EET
DTSTART:20181028T010000
END:STANDARD
BEGIN:DAYLIGHT
TZOFFSETFROM:+0200
TZOFFSETTO:+0300
TZNAME:EEST
DTSTART:20190331T010000
END:DAYLIGHT
BEGIN:STANDARD
TZOFFSETFROM:+0300
TZOFFSETTO:+0200
TZNAME:EET
DTSTART:20191027T010000
END:STANDARD
BEGIN:DAYLIGHT
TZOFFSETFROM:+0200
TZOFFSETTO:+0300
TZNAME:EEST
DTSTART:20200329T010000
END:DAYLIGHT
BEGIN:STANDARD
TZOFFSETFROM:+0300
TZOFFSETTO:+0200
TZNAME:EET
DTSTART:20201025T010000
END:STANDARD
END:VTIMEZONE
BEGIN:VEVENT
DTSTART;VALUE=DATE:20191108
DTEND;VALUE=DATE:20191111
DTSTAMP:20260423T234249
CREATED:20190205T181645Z
LAST-MODIFIED:20191208T084042Z
UID:7549-1573171200-1573430399@fepanews.com
SUMMARY:Multilaterale 2019 Luxemburg
DESCRIPTION:Multinational (Austria\, Germany\, Liechtenstein\, Luxembourg\, Netherlands\, Slovenia and Switzerland)\, Luxemburg. FEPA Recognition. \nLocation: Exhibition Hall at Luxembourg-Kirchberg. \nOrganisers: POST Luxembourg and the Luxembourg federation FSPL (Fédération des Sociétés philatéliques du Grand-Duché de Luxembourg).  \nThe exhibition is under the High Patronage of HRH the Grand-Duke and the auspices of the Prime Minister of Luxembourg and the City of Luxembourg.
URL:https://fepanews.com/event/multilaterale-2019-luxemburg/
CATEGORIES:FEPA Recognition,Multinational
END:VEVENT
BEGIN:VEVENT
DTSTART;VALUE=DATE:20191122
DTEND;VALUE=DATE:20191125
DTSTAMP:20260423T234249
CREATED:20180807T054606Z
LAST-MODIFIED:20200127T083925Z
UID:5707-1574380800-1574639999@fepanews.com
SUMMARY:ECTP 2019
DESCRIPTION:9th European Championship of Thematic Philately\, multinational. FEPA Recognition. Verona\, Italy. \nResults: \n  	  		 		  							 					                                                                                                                                                                          Download Page                                                                                                                                     Download Right Page                                                                                                                                                          Open
URL:https://fepanews.com/event/ectp-2019/
CATEGORIES:Multinational
END:VEVENT
BEGIN:VEVENT
DTSTART;VALUE=DATE:20191128
DTEND;VALUE=DATE:20191201
DTSTAMP:20260423T234249
CREATED:20181106T095221Z
LAST-MODIFIED:20181106T095221Z
UID:6876-1574899200-1575158399@fepanews.com
SUMMARY:MonacoPhil 2019
DESCRIPTION:Non-competitive\, Monaco. FEPA Recognition.
URL:https://fepanews.com/event/monacophil-2019/
CATEGORIES:FEPA Recognition,Multinational
END:VEVENT
END:VCALENDAR