BEGIN:VCALENDAR
VERSION:2.0
PRODID:-//FEPA News - ECPv6.15.12.2//NONSGML v1.0//EN
CALSCALE:GREGORIAN
METHOD:PUBLISH
X-ORIGINAL-URL:https://fepanews.com
X-WR-CALDESC:Events for FEPA News
REFRESH-INTERVAL;VALUE=DURATION:PT1H
X-Robots-Tag:noindex
X-PUBLISHED-TTL:PT1H
BEGIN:VTIMEZONE
TZID:Europe/Helsinki
BEGIN:DAYLIGHT
TZOFFSETFROM:+0200
TZOFFSETTO:+0300
TZNAME:EEST
DTSTART:20190331T010000
END:DAYLIGHT
BEGIN:STANDARD
TZOFFSETFROM:+0300
TZOFFSETTO:+0200
TZNAME:EET
DTSTART:20191027T010000
END:STANDARD
BEGIN:DAYLIGHT
TZOFFSETFROM:+0200
TZOFFSETTO:+0300
TZNAME:EEST
DTSTART:20200329T010000
END:DAYLIGHT
BEGIN:STANDARD
TZOFFSETFROM:+0300
TZOFFSETTO:+0200
TZNAME:EET
DTSTART:20201025T010000
END:STANDARD
BEGIN:DAYLIGHT
TZOFFSETFROM:+0200
TZOFFSETTO:+0300
TZNAME:EEST
DTSTART:20210328T010000
END:DAYLIGHT
BEGIN:STANDARD
TZOFFSETFROM:+0300
TZOFFSETTO:+0200
TZNAME:EET
DTSTART:20211031T010000
END:STANDARD
END:VTIMEZONE
BEGIN:VEVENT
DTSTART;VALUE=DATE:20201204
DTEND;VALUE=DATE:20201207
DTSTAMP:20260423T031316
CREATED:20200526T175458Z
LAST-MODIFIED:20201118T202131Z
UID:10435-1607040000-1607299199@fepanews.com
SUMMARY:NORDIA 2020 CANCELLED
DESCRIPTION:CANCELLED \nThe organization committee wrote: \n“At a meeting on Wednesday September 9 the exhibition committee for Nordia 2020 decided to cancel the exhibition planned for December 4-6 this year. \nDue to the circumstance for Covid-19 in combination with the Swedish regulations not allowing more than 50 persons to meet\, also for fairs and exhibitions\, we had to make this unpleasant decision.  We cannot foresee a sufficient improvement of the situation until December to allow us to professionally organize a successful exhibition.” \n  \nPOSTPONED FROM September\, 2020 \nMultinational\, Nordic countries\, FEPA Recognition. Malmö\, Sweden \nBulletin 1: \n  	  		 		  							 					                                                                                                                                   Open
URL:https://fepanews.com/event/nordia-2020-2/
LOCATION:MalmöMässan\, Mässgatan 6\, Malmö\, 21532\, Sweden
CATEGORIES:FEPA Recognition,Multinational
END:VEVENT
BEGIN:VEVENT
DTSTART;VALUE=DATE:20201207
DTEND;VALUE=DATE:20201215
DTSTAMP:20260423T031316
CREATED:20200924T080027Z
LAST-MODIFIED:20200924T080309Z
UID:10877-1607299200-1607990399@fepanews.com
SUMMARY:SOFIZ I
DESCRIPTION:Virtual exhibition\, Serbia. \nExhibition website is in Serbian\, but it can be translated into English using Google Chrome browser.
URL:https://fepanews.com/event/sofiz-i/
CATEGORIES:Multinational
END:VEVENT
END:VCALENDAR