BEGIN:VCALENDAR
VERSION:2.0
PRODID:-//FEPA News - ECPv6.15.12.2//NONSGML v1.0//EN
CALSCALE:GREGORIAN
METHOD:PUBLISH
X-WR-CALNAME:FEPA News
X-ORIGINAL-URL:https://fepanews.com
X-WR-CALDESC:Events for FEPA News
REFRESH-INTERVAL;VALUE=DURATION:PT1H
X-Robots-Tag:noindex
X-PUBLISHED-TTL:PT1H
BEGIN:VTIMEZONE
TZID:Europe/Helsinki
BEGIN:DAYLIGHT
TZOFFSETFROM:+0200
TZOFFSETTO:+0300
TZNAME:EEST
DTSTART:20200329T010000
END:DAYLIGHT
BEGIN:STANDARD
TZOFFSETFROM:+0300
TZOFFSETTO:+0200
TZNAME:EET
DTSTART:20201025T010000
END:STANDARD
BEGIN:DAYLIGHT
TZOFFSETFROM:+0200
TZOFFSETTO:+0300
TZNAME:EEST
DTSTART:20210328T010000
END:DAYLIGHT
BEGIN:STANDARD
TZOFFSETFROM:+0300
TZOFFSETTO:+0200
TZNAME:EET
DTSTART:20211031T010000
END:STANDARD
BEGIN:DAYLIGHT
TZOFFSETFROM:+0200
TZOFFSETTO:+0300
TZNAME:EEST
DTSTART:20220327T010000
END:DAYLIGHT
BEGIN:STANDARD
TZOFFSETFROM:+0300
TZOFFSETTO:+0200
TZNAME:EET
DTSTART:20221030T010000
END:STANDARD
END:VTIMEZONE
BEGIN:VEVENT
DTSTART;VALUE=DATE:20210610
DTEND;VALUE=DATE:20210614
DTSTAMP:20260422T164831
CREATED:20191220T202726Z
LAST-MODIFIED:20210321T135609Z
UID:9615-1623283200-1623628799@fepanews.com
SUMMARY:ALPE ADRIA TARVISIO 2021 - CANCELLED
DESCRIPTION:National with international participation\, Rang I. FEPA Recognition. Tarvisio\, Italy.
URL:https://fepanews.com/event/alpe-adria-tarvisio-2020/
LOCATION:Palazzetto dello Sport\, via Degli Atleti Azzurri\, Tarvisio (UD)\, 33018\, Italy
CATEGORIES:Multinational
END:VEVENT
END:VCALENDAR