BEGIN:VCALENDAR
VERSION:2.0
PRODID:-//FEPA News - ECPv6.15.12.2//NONSGML v1.0//EN
CALSCALE:GREGORIAN
METHOD:PUBLISH
X-WR-CALNAME:FEPA News
X-ORIGINAL-URL:https://fepanews.com
X-WR-CALDESC:Events for FEPA News
REFRESH-INTERVAL;VALUE=DURATION:PT1H
X-Robots-Tag:noindex
X-PUBLISHED-TTL:PT1H
BEGIN:VTIMEZONE
TZID:Europe/Helsinki
BEGIN:DAYLIGHT
TZOFFSETFROM:+0200
TZOFFSETTO:+0300
TZNAME:EEST
DTSTART:20190331T010000
END:DAYLIGHT
BEGIN:STANDARD
TZOFFSETFROM:+0300
TZOFFSETTO:+0200
TZNAME:EET
DTSTART:20191027T010000
END:STANDARD
BEGIN:DAYLIGHT
TZOFFSETFROM:+0200
TZOFFSETTO:+0300
TZNAME:EEST
DTSTART:20200329T010000
END:DAYLIGHT
BEGIN:STANDARD
TZOFFSETFROM:+0300
TZOFFSETTO:+0200
TZNAME:EET
DTSTART:20201025T010000
END:STANDARD
BEGIN:DAYLIGHT
TZOFFSETFROM:+0200
TZOFFSETTO:+0300
TZNAME:EEST
DTSTART:20210328T010000
END:DAYLIGHT
BEGIN:STANDARD
TZOFFSETFROM:+0300
TZOFFSETTO:+0200
TZNAME:EET
DTSTART:20211031T010000
END:STANDARD
END:VTIMEZONE
BEGIN:VEVENT
DTSTART;VALUE=DATE:20200515
DTEND;VALUE=DATE:20200518
DTSTAMP:20260425T202216
CREATED:20191221T063846Z
LAST-MODIFIED:20200319T200442Z
UID:9659-1589500800-1589759999@fepanews.com
SUMMARY:Latinphil 2020 POSTPONED
DESCRIPTION:POSTPONED UNTIL OCTOBER 23-25\, 2020 \nNational\, revenues and postal stationery. Borgo Faiti – Latina\, Italy.
URL:https://fepanews.com/event/latinphil-2020/
LOCATION:Piana delle Orme Museum\, Strada Migliara 43 1/2\, Latina\, 04100\, Italy
CATEGORIES:National
END:VEVENT
BEGIN:VEVENT
DTSTART;VALUE=DATE:20200522
DTEND;VALUE=DATE:20200525
DTSTAMP:20260425T202216
CREATED:20191221T065501Z
LAST-MODIFIED:20200319T200536Z
UID:9665-1590105600-1590364799@fepanews.com
SUMMARY:AICPM.NET 2020 POSTPONED
DESCRIPTION:POSTPONED UNTIL NOVEMBER 27-29\, 2020 \nNational postal history. Verona\, Italy.
URL:https://fepanews.com/event/aicpm-net-2020/
LOCATION:Fiera di Verona\, Viale del Lavoro 8\, Verona\, 37135\, Italy
CATEGORIES:National
END:VEVENT
END:VCALENDAR