BEGIN:VCALENDAR
VERSION:2.0
PRODID:-//FEPA News - ECPv6.15.12.2//NONSGML v1.0//EN
CALSCALE:GREGORIAN
METHOD:PUBLISH
X-ORIGINAL-URL:https://fepanews.com
X-WR-CALDESC:Events for FEPA News
REFRESH-INTERVAL;VALUE=DURATION:PT1H
X-Robots-Tag:noindex
X-PUBLISHED-TTL:PT1H
BEGIN:VTIMEZONE
TZID:Europe/Helsinki
BEGIN:DAYLIGHT
TZOFFSETFROM:+0200
TZOFFSETTO:+0300
TZNAME:EEST
DTSTART:20200329T010000
END:DAYLIGHT
BEGIN:STANDARD
TZOFFSETFROM:+0300
TZOFFSETTO:+0200
TZNAME:EET
DTSTART:20201025T010000
END:STANDARD
BEGIN:DAYLIGHT
TZOFFSETFROM:+0200
TZOFFSETTO:+0300
TZNAME:EEST
DTSTART:20210328T010000
END:DAYLIGHT
BEGIN:STANDARD
TZOFFSETFROM:+0300
TZOFFSETTO:+0200
TZNAME:EET
DTSTART:20211031T010000
END:STANDARD
BEGIN:DAYLIGHT
TZOFFSETFROM:+0200
TZOFFSETTO:+0300
TZNAME:EEST
DTSTART:20220327T010000
END:DAYLIGHT
BEGIN:STANDARD
TZOFFSETFROM:+0300
TZOFFSETTO:+0200
TZNAME:EET
DTSTART:20221030T010000
END:STANDARD
END:VTIMEZONE
BEGIN:VEVENT
DTSTART;VALUE=DATE:20210924
DTEND;VALUE=DATE:20210927
DTSTAMP:20260424T141508
CREATED:20190317T182353Z
LAST-MODIFIED:20190317T182521Z
UID:7740-1632441600-1632700799@fepanews.com
SUMMARY:Multilaterale 2021
DESCRIPTION:Multinational (Austria\, Germany\, Liechtenstein\, Luxembourg\, Netherlands\, Slovenia and Switzerland)\, Luxemburg. FEPA Recognition. St. Pölten\, Austria.
URL:https://fepanews.com/event/multilaterale-2021/
CATEGORIES:Multinational,National
END:VEVENT
BEGIN:VEVENT
DTSTART;VALUE=DATE:20210929
DTEND;VALUE=DATE:20211003
DTSTAMP:20260424T141508
CREATED:20200820T050344Z
LAST-MODIFIED:20210616T142401Z
UID:10783-1632873600-1633219199@fepanews.com
SUMMARY:Autumn Stampex 2021
DESCRIPTION:National. London\, United Kingdom.
URL:https://fepanews.com/event/autumn-stampex-2021/
LOCATION:Business Design Centre\, Islington\, 52 Upper Street\, London\, N1 0QH\, United Kingdom
CATEGORIES:National
END:VEVENT
END:VCALENDAR