BEGIN:VCALENDAR
VERSION:2.0
PRODID:-//FEPA News - ECPv6.15.12.2//NONSGML v1.0//EN
CALSCALE:GREGORIAN
METHOD:PUBLISH
X-WR-CALNAME:FEPA News
X-ORIGINAL-URL:https://fepanews.com
X-WR-CALDESC:Events for FEPA News
REFRESH-INTERVAL;VALUE=DURATION:PT1H
X-Robots-Tag:noindex
X-PUBLISHED-TTL:PT1H
BEGIN:VTIMEZONE
TZID:Europe/Helsinki
BEGIN:DAYLIGHT
TZOFFSETFROM:+0200
TZOFFSETTO:+0300
TZNAME:EEST
DTSTART:20220327T010000
END:DAYLIGHT
BEGIN:STANDARD
TZOFFSETFROM:+0300
TZOFFSETTO:+0200
TZNAME:EET
DTSTART:20221030T010000
END:STANDARD
BEGIN:DAYLIGHT
TZOFFSETFROM:+0200
TZOFFSETTO:+0300
TZNAME:EEST
DTSTART:20230326T010000
END:DAYLIGHT
BEGIN:STANDARD
TZOFFSETFROM:+0300
TZOFFSETTO:+0200
TZNAME:EET
DTSTART:20231029T010000
END:STANDARD
BEGIN:DAYLIGHT
TZOFFSETFROM:+0200
TZOFFSETTO:+0300
TZNAME:EEST
DTSTART:20240331T010000
END:DAYLIGHT
BEGIN:STANDARD
TZOFFSETFROM:+0300
TZOFFSETTO:+0200
TZNAME:EET
DTSTART:20241027T010000
END:STANDARD
END:VTIMEZONE
BEGIN:VEVENT
DTSTART;VALUE=DATE:20230601
DTEND;VALUE=DATE:20230605
DTSTAMP:20260423T063749
CREATED:20220603T115120Z
LAST-MODIFIED:20231002T181636Z
UID:13885-1685577600-1685923199@fepanews.com
SUMMARY:BRATISLAVAFILA 2023
DESCRIPTION:National with international participation\, FEPA Recognition.\nhttps://www.bratislavafila2023.sk
URL:https://fepanews.com/event/bratislava-2023/
LOCATION:Incheba Expo\, Bratislava\, Slovakia (Slovak Republic)
CATEGORIES:FEPA Recognition,National
END:VEVENT
END:VCALENDAR