BEGIN:VCALENDAR
VERSION:2.0
PRODID:-//FEPA News - ECPv6.15.12.2//NONSGML v1.0//EN
CALSCALE:GREGORIAN
METHOD:PUBLISH
X-ORIGINAL-URL:https://fepanews.com
X-WR-CALDESC:Events for FEPA News
REFRESH-INTERVAL;VALUE=DURATION:PT1H
X-Robots-Tag:noindex
X-PUBLISHED-TTL:PT1H
BEGIN:VTIMEZONE
TZID:Europe/Helsinki
BEGIN:DAYLIGHT
TZOFFSETFROM:+0200
TZOFFSETTO:+0300
TZNAME:EEST
DTSTART:20240331T010000
END:DAYLIGHT
BEGIN:STANDARD
TZOFFSETFROM:+0300
TZOFFSETTO:+0200
TZNAME:EET
DTSTART:20241027T010000
END:STANDARD
BEGIN:DAYLIGHT
TZOFFSETFROM:+0200
TZOFFSETTO:+0300
TZNAME:EEST
DTSTART:20250330T010000
END:DAYLIGHT
BEGIN:STANDARD
TZOFFSETFROM:+0300
TZOFFSETTO:+0200
TZNAME:EET
DTSTART:20251026T010000
END:STANDARD
BEGIN:DAYLIGHT
TZOFFSETFROM:+0200
TZOFFSETTO:+0300
TZNAME:EEST
DTSTART:20260329T010000
END:DAYLIGHT
BEGIN:STANDARD
TZOFFSETFROM:+0300
TZOFFSETTO:+0200
TZNAME:EET
DTSTART:20261025T010000
END:STANDARD
BEGIN:DAYLIGHT
TZOFFSETFROM:+0200
TZOFFSETTO:+0300
TZNAME:EEST
DTSTART:20270328T010000
END:DAYLIGHT
BEGIN:STANDARD
TZOFFSETFROM:+0300
TZOFFSETTO:+0200
TZNAME:EET
DTSTART:20271031T010000
END:STANDARD
END:VTIMEZONE
BEGIN:VEVENT
DTSTART;VALUE=DATE:20250507
DTEND;VALUE=DATE:20250512
DTSTAMP:20260425T191512
CREATED:20221025T130046Z
LAST-MODIFIED:20250313T075602Z
UID:14766-1746576000-1747007999@fepanews.com
SUMMARY:EUROPHILEX BIRMINGHAM 2025
DESCRIPTION:European Stamp Exhibition\, FEPA Patronage\, FIP Recognition.\nhttps://europhilex2025.co.uk
URL:https://fepanews.com/event/europhilex-2025/
LOCATION:National Exhibition Centre Birmingham\, North Ave\, Marston Green\, Birmingham\, B40 1NT\, United Kingdom
CATEGORIES:FEPA Patronage,FIP Recognition
END:VEVENT
BEGIN:VEVENT
DTSTART;VALUE=DATE:20250511
DTEND;VALUE=DATE:20250512
DTSTAMP:20260425T191512
CREATED:20240618T090356Z
LAST-MODIFIED:20250507T155400Z
UID:19064-1746921600-1747007999@fepanews.com
SUMMARY:FEPA CONGRESS 2025
DESCRIPTION:Annual FEPA Congress. \nStart time: 10.30 am
URL:https://fepanews.com/event/fepa-congress-2025/
LOCATION:National Exhibition Centre Birmingham\, North Ave\, Marston Green\, Birmingham\, B40 1NT\, United Kingdom
END:VEVENT
BEGIN:VEVENT
DTSTART;VALUE=DATE:20250514
DTEND;VALUE=DATE:20250518
DTSTAMP:20260425T191512
CREATED:20231213T094305Z
LAST-MODIFIED:20241123T180816Z
UID:18026-1747180800-1747526399@fepanews.com
SUMMARY:BERNABA & MULTILATERALE 2025
DESCRIPTION:National & Multinational Exhibition.\nhttps://www.bernaba25.ch
URL:https://fepanews.com/event/bernaba-2025/
LOCATION:BERNEXPO-Hallen Bern\, Bern\, Switzerland
CATEGORIES:Multinational,National
END:VEVENT
BEGIN:VEVENT
DTSTART;VALUE=DATE:20250606
DTEND;VALUE=DATE:20250610
DTSTAMP:20260425T191512
CREATED:20241209T185945Z
LAST-MODIFIED:20241209T190138Z
UID:20167-1749168000-1749513599@fepanews.com
SUMMARY:PHILA-FRANCE COLMAR 2025
DESCRIPTION:Championnat de France de philatélie\, 98e Congrès national. \nhttps://ffap.net/event/phila-france-2025-colmar-68
URL:https://fepanews.com/event/phila-france-colmar-2025/
LOCATION:Parc des expositions – Centre des Congrès\, Avenue de la Foire aux Vins\, Colmar\, 68000\, France
CATEGORIES:National
END:VEVENT
BEGIN:VEVENT
DTSTART;VALUE=DATE:20250619
DTEND;VALUE=DATE:20250623
DTSTAMP:20260425T191512
CREATED:20240317T164129Z
LAST-MODIFIED:20241124T115531Z
UID:18593-1750291200-1750636799@fepanews.com
SUMMARY:LIBEREC 2025
DESCRIPTION:National Exhibition with international participation\, FEPA Recognition. \nhttps://www.liberec2025.cz/
URL:https://fepanews.com/event/liberec-2025/
LOCATION:Liberec\, Czech Republic
CATEGORIES:FEPA Recognition,National
END:VEVENT
BEGIN:VEVENT
DTSTART;VALUE=DATE:20250705
DTEND;VALUE=DATE:20250706
DTSTAMP:20260425T191512
CREATED:20240924T192543Z
LAST-MODIFIED:20241123T181135Z
UID:19595-1751673600-1751759999@fepanews.com
SUMMARY:MIDPEX 2025
DESCRIPTION:Stamp Fair. \nhttps://sites.google.com/site/midpex
URL:https://fepanews.com/event/midpex-2025/
LOCATION:Warwickshire Event Centre\, Leamington Spa\, CV31 1XN\, United Kingdom
CATEGORIES:Stamp Show
END:VEVENT
BEGIN:VEVENT
DTSTART;VALUE=DATE:20250912
DTEND;VALUE=DATE:20250915
DTSTAMP:20260425T191512
CREATED:20240618T085356Z
LAST-MODIFIED:20241123T181235Z
UID:19059-1757635200-1757894399@fepanews.com
SUMMARY:NORDIA 2025
DESCRIPTION:Multinational Exhibition\, FEPA Recognition.\nhttps://nordia2025.se
URL:https://fepanews.com/event/nordia-2025/
LOCATION:MalmöMässan\, Mässgatan 6\, Malmö\, 21532\, Sweden
CATEGORIES:FEPA Recognition,Multinational
END:VEVENT
BEGIN:VEVENT
DTSTART;VALUE=DATE:20250917
DTEND;VALUE=DATE:20250922
DTSTAMP:20260425T191512
CREATED:20240227T095010Z
LAST-MODIFIED:20250313T073412Z
UID:18459-1758067200-1758499199@fepanews.com
SUMMARY:PHILAKOREA 2025
DESCRIPTION:Specialised World Stamp Exhibition\, WSC\, FIP patronage. \nhttps://philakorea2025.kr/
URL:https://fepanews.com/event/philakorea-2025/
LOCATION:Seoul\, Korea\, Republic of
CATEGORIES:FIP Patronage
END:VEVENT
BEGIN:VEVENT
DTSTART;VALUE=DATE:20251010
DTEND;VALUE=DATE:20251013
DTSTAMP:20260425T191512
CREATED:20250809T140511Z
LAST-MODIFIED:20250809T140511Z
UID:22579-1760054400-1760313599@fepanews.com
SUMMARY:STAMPA 2025
DESCRIPTION:National Exhibition. https://stampa.ie
URL:https://fepanews.com/event/stampa-2025/
LOCATION:Griffith College Conference Centre\, Dublin\, Ireland
CATEGORIES:National
END:VEVENT
BEGIN:VEVENT
DTSTART;VALUE=DATE:20251022
DTEND;VALUE=DATE:20251026
DTSTAMP:20260425T191512
CREATED:20241208T164523Z
LAST-MODIFIED:20250823T095339Z
UID:20157-1761091200-1761436799@fepanews.com
SUMMARY:STAMPEX 2025
DESCRIPTION:International Stamp Fair.
URL:https://fepanews.com/event/stampex-2025/
LOCATION:Business Design Centre\, Islington\, 52 Upper Street\, London\, N1 0QH\, United Kingdom
CATEGORIES:International,Stamp Show
END:VEVENT
BEGIN:VEVENT
DTSTART;VALUE=DATE:20251023
DTEND;VALUE=DATE:20251026
DTSTAMP:20260425T191512
CREATED:20250628T154124Z
LAST-MODIFIED:20250628T154245Z
UID:22247-1761177600-1761436799@fepanews.com
SUMMARY:Internationale Briefmarken-Börse Ulm
DESCRIPTION:International Stamp Fair.\nhttps://briefmarken-messe.de
URL:https://fepanews.com/event/internationale-briefmarken-borse-ulm-3/
LOCATION:Messe-Ulm\, Ulm\, Germany
CATEGORIES:International,Stamp Show
END:VEVENT
BEGIN:VEVENT
DTSTART;VALUE=DATE:20251105
DTEND;VALUE=DATE:20251110
DTSTAMP:20260425T191512
CREATED:20250823T094029Z
LAST-MODIFIED:20250823T094029Z
UID:22680-1762300800-1762732799@fepanews.com
SUMMARY:EXFILNA & JUVENIA 2025
DESCRIPTION:National Exhibition.
URL:https://fepanews.com/event/exfilna-juvenia-2025/
LOCATION:Cadiz\, Spain
CATEGORIES:National
END:VEVENT
BEGIN:VEVENT
DTSTART;VALUE=DATE:20251114
DTEND;VALUE=DATE:20251117
DTSTAMP:20260425T191512
CREATED:20250403T062118Z
LAST-MODIFIED:20250819T085511Z
UID:21244-1763078400-1763337599@fepanews.com
SUMMARY:TimFilEx 2025
DESCRIPTION:National Exhibition with international participation. FEPA Recognition
URL:https://fepanews.com/event/timfilex-2025/
LOCATION:West University of Timisoara\, Timișoara\, Romania
CATEGORIES:FEPA Recognition,International
END:VEVENT
BEGIN:VEVENT
DTSTART;VALUE=DATE:20251215
DTEND;VALUE=DATE:20260116
DTSTAMP:20260425T191512
CREATED:20250722T091733Z
LAST-MODIFIED:20250722T092004Z
UID:22481-1765756800-1768521599@fepanews.com
SUMMARY:APATIN 2025
DESCRIPTION:International Virtual Exhibition open to all classes.\nhttps://udruzenjefilatelistaapatin.org.rs
URL:https://fepanews.com/event/apatin-2025/
LOCATION:On Line\, Apatin\, Serbia
CATEGORIES:International
END:VEVENT
BEGIN:VEVENT
DTSTART;VALUE=DATE:20260204
DTEND;VALUE=DATE:20260209
DTSTAMP:20260425T191512
CREATED:20241128T083337Z
LAST-MODIFIED:20250313T073628Z
UID:20072-1770163200-1770595199@fepanews.com
SUMMARY:DUBAI 2026
DESCRIPTION:Specialised World Stamp Exhibition\, FIP Patronage. \nhttps://dubai2026wse.com
URL:https://fepanews.com/event/dubai-2026/
LOCATION:Dubai
CATEGORIES:FIP Patronage
END:VEVENT
BEGIN:VEVENT
DTSTART;VALUE=DATE:20260306
DTEND;VALUE=DATE:20260309
DTSTAMP:20260425T191512
CREATED:20250823T095134Z
LAST-MODIFIED:20250823T095134Z
UID:22688-1772755200-1773014399@fepanews.com
SUMMARY:VIRTUAL STAMPEX 2026
DESCRIPTION:International Virtual Stamp Fair.
URL:https://fepanews.com/event/virtual-stampex-2026/
LOCATION:Online
CATEGORIES:Stamp Show
END:VEVENT
BEGIN:VEVENT
DTSTART;VALUE=DATE:20260409
DTEND;VALUE=DATE:20260413
DTSTAMP:20260425T191512
CREATED:20250823T094241Z
LAST-MODIFIED:20250923T080738Z
UID:22684-1775692800-1776038399@fepanews.com
SUMMARY:ALPEN-ADRIA 2026
DESCRIPTION:Multinational Exhibition.\nhttp://www.alpeadria.eu/
URL:https://fepanews.com/event/alpen-adria-2026/
LOCATION:Porec\, Croatia (Local Name: Hrvatska)
CATEGORIES:Multinational
END:VEVENT
BEGIN:VEVENT
DTSTART;VALUE=DATE:20260429
DTEND;VALUE=DATE:20260503
DTSTAMP:20260425T191512
CREATED:20260224T164326Z
LAST-MODIFIED:20260301T181136Z
UID:24673-1777420800-1777766399@fepanews.com
SUMMARY:BALKANFILA XXI
DESCRIPTION:Multinational Exhibition\, FEPA Recognition.\nhttps://balkanfilaxxi.eu
URL:https://fepanews.com/event/balkanfila-xxi/
LOCATION:Pernik\, Bulgaria
CATEGORIES:FEPA Recognition,Multinational
END:VEVENT
BEGIN:VEVENT
DTSTART;VALUE=DATE:20260508
DTEND;VALUE=DATE:20260511
DTSTAMP:20260425T191512
CREATED:20250316T175938Z
LAST-MODIFIED:20250316T180406Z
UID:21023-1778198400-1778457599@fepanews.com
SUMMARY:NORDIA 2026
DESCRIPTION:Multinational Exhibition\, FEPA Recognition. \nhttps://nordia2026.fi/en/
URL:https://fepanews.com/event/nordia-2026/
LOCATION:Dipoli Congress Centre\, Espoo\, Finland
CATEGORIES:FEPA Recognition
END:VEVENT
BEGIN:VEVENT
DTSTART;VALUE=DATE:20260523
DTEND;VALUE=DATE:20260531
DTSTAMP:20260425T191512
CREATED:20221115T080001Z
LAST-MODIFIED:20250513T110724Z
UID:15023-1779494400-1780185599@fepanews.com
SUMMARY:BOSTON 2026
DESCRIPTION:General World Stamp Exhibition\, FIP Patronage\, FEPA Recognition.\nhttps://boston2026.org
URL:https://fepanews.com/event/boston-2026/
LOCATION:Boston Convention and Exhibition Center\, 415 Summer Street\, Boston\, MA\, 02210\, United States
CATEGORIES:FEPA Recognition,FIP Patronage
END:VEVENT
BEGIN:VEVENT
DTSTART;VALUE=DATE:20260523
DTEND;VALUE=DATE:20260525
DTSTAMP:20260425T191512
CREATED:20260224T164821Z
LAST-MODIFIED:20260224T170351Z
UID:24682-1779494400-1779667199@fepanews.com
SUMMARY:EXPHIMO 2026
DESCRIPTION:International Thematic Exhibition.\nhttps://www.philcolux.lu
URL:https://fepanews.com/event/exphimo-2026/
LOCATION:Bad Mondorf\, Luxembourg
CATEGORIES:International
END:VEVENT
BEGIN:VEVENT
DTSTART;VALUE=DATE:20260626
DTEND;VALUE=DATE:20260702
DTSTAMP:20260425T191512
CREATED:20240421T154710Z
LAST-MODIFIED:20241206T052339Z
UID:18762-1782432000-1782950399@fepanews.com
SUMMARY:MACAO 2026
DESCRIPTION:Specialised World Stamp Exhibition\, FIP patronage. \nhttps://www.macao2026.org.mo/
URL:https://fepanews.com/event/macao-2026/
LOCATION:Macao
CATEGORIES:FIP Patronage
END:VEVENT
BEGIN:VEVENT
DTSTART;VALUE=DATE:20260717
DTEND;VALUE=DATE:20260720
DTSTAMP:20260425T191512
CREATED:20240920T123803Z
LAST-MODIFIED:20251124T083123Z
UID:19549-1784246400-1784505599@fepanews.com
SUMMARY:BEPHILA 2026
DESCRIPTION:Germany-Sweden Bilateral Exhibition\, FEPA Recognition. \nhttps://www.bephila.de/
URL:https://fepanews.com/event/bephila-2026/
LOCATION:Sparkassen-Arena\, Bernau\, 16321\, Germany
CATEGORIES:Bilateral,FEPA Recognition
END:VEVENT
BEGIN:VEVENT
DTSTART;VALUE=DATE:20260828
DTEND;VALUE=DATE:20260830
DTSTAMP:20260425T191512
CREATED:20260224T165039Z
LAST-MODIFIED:20260224T165039Z
UID:24686-1787875200-1788047999@fepanews.com
SUMMARY:PHILHAINAUT ‘26
DESCRIPTION:National Exhibition with international participation.
URL:https://fepanews.com/event/philhainaut-26/
LOCATION:La Louviére\, Belgium
CATEGORIES:National
END:VEVENT
BEGIN:VEVENT
DTSTART;VALUE=DATE:20260903
DTEND;VALUE=DATE:20260913
DTSTAMP:20260425T191512
CREATED:20260224T165152Z
LAST-MODIFIED:20260224T170221Z
UID:24690-1788393600-1789257599@fepanews.com
SUMMARY:DvanajstoOkno Kranj
DESCRIPTION:International Narrow Theme Exhibition.\nhttps://fzs.si/dvanajstookno2026
URL:https://fepanews.com/event/dvanajstookno-kranj/
LOCATION:Kranj\, Slovenia
CATEGORIES:International
END:VEVENT
BEGIN:VEVENT
DTSTART;VALUE=DATE:20260904
DTEND;VALUE=DATE:20260907
DTSTAMP:20260425T191512
CREATED:20260224T165505Z
LAST-MODIFIED:20260224T165505Z
UID:24695-1788480000-1788739199@fepanews.com
SUMMARY:ABPS NATIONAL
DESCRIPTION:National Exhibition.\nhttps://www.abps.org.uk/forthcoming-exhibitions
URL:https://fepanews.com/event/abps-national/
LOCATION:Nottingham\, United Kingdom
CATEGORIES:National
END:VEVENT
BEGIN:VEVENT
DTSTART;VALUE=DATE:20260910
DTEND;VALUE=DATE:20260913
DTSTAMP:20260425T191512
CREATED:20260408T083716Z
LAST-MODIFIED:20260408T083743Z
UID:25058-1788998400-1789257599@fepanews.com
SUMMARY:STAMPA 2026
DESCRIPTION:National Exhibition. \n\nHome
URL:https://fepanews.com/event/stampa-2026/
LOCATION:Griffith College Conference Centre\, Dublin\, Ireland
CATEGORIES:National
END:VEVENT
BEGIN:VEVENT
DTSTART;VALUE=DATE:20260917
DTEND;VALUE=DATE:20260920
DTSTAMP:20260425T191512
CREATED:20260303T185621Z
LAST-MODIFIED:20260420T200825Z
UID:24799-1789603200-1789862399@fepanews.com
SUMMARY:EGYPHILA 2026
DESCRIPTION:National with international participation. FEPA Recognition.
URL:https://fepanews.com/event/egyphila-26/
LOCATION:Cairo\, Egypt
CATEGORIES:FEPA Recognition,National
END:VEVENT
BEGIN:VEVENT
DTSTART;VALUE=DATE:20260923
DTEND;VALUE=DATE:20260928
DTSTAMP:20260425T191512
CREATED:20260309T151534Z
LAST-MODIFIED:20260408T083837Z
UID:24859-1790121600-1790553599@fepanews.com
SUMMARY:EXFILNA 2026
DESCRIPTION:Spanish Philatelic Championship. \n\nInicio
URL:https://fepanews.com/event/exfilna-2026/
LOCATION:Mérida\, Spain
CATEGORIES:National
END:VEVENT
BEGIN:VEVENT
DTSTART;VALUE=DATE:20261007
DTEND;VALUE=DATE:20261012
DTSTAMP:20260425T191512
CREATED:20251021T123051Z
LAST-MODIFIED:20251022T075432Z
UID:23275-1791331200-1791763199@fepanews.com
SUMMARY:SRBIJAFILA XVI
DESCRIPTION:National Exhibition with international participation. FEPA Recognition.\nhttps://srbijafila.org/en/
URL:https://fepanews.com/event/srbijafila-xvi/
LOCATION:Serbian Military Club\, Belgrade\, Serbia
CATEGORIES:National
END:VEVENT
END:VCALENDAR